BEGIN:VCALENDAR
VERSION:2.0
PRODID:-//ARISE Philippines - ECPv6.15.17.1//NONSGML v1.0//EN
CALSCALE:GREGORIAN
METHOD:PUBLISH
X-WR-CALNAME:ARISE Philippines
X-ORIGINAL-URL:https://www.arise.ph
X-WR-CALDESC:Events for ARISE Philippines
REFRESH-INTERVAL;VALUE=DURATION:PT1H
X-Robots-Tag:noindex
X-PUBLISHED-TTL:PT1H
BEGIN:VTIMEZONE
TZID:Asia/Manila
BEGIN:STANDARD
TZOFFSETFROM:+0800
TZOFFSETTO:+0800
TZNAME:PST
DTSTART:20200101T000000
END:STANDARD
END:VTIMEZONE
BEGIN:VEVENT
DTSTART;TZID=Asia/Manila:20220216T180000
DTEND;TZID=Asia/Manila:20220216T190000
DTSTAMP:20260426T003302
CREATED:20260223T010704Z
LAST-MODIFIED:20260305T032220Z
UID:8568-1645034400-1645038000@www.arise.ph
SUMMARY:Asia Pacific College Pro Series Free Webinar on Cyber Security
DESCRIPTION:Join the Zoom Meeting: https://us06web.zoom.us/j/87960199101?pwd=Rmt4cDFmNHFhbG9nWWExRkdWamZnUT09\nMeeting ID: 879 6019 9101\nPasscode: CYBERPRO
URL:https://www.arise.ph/event/asia-pacific-college-pro-series-free-webinar-on-cyber-security/
LOCATION:via Zoom\, Philippines
ATTACH;FMTTYPE=image/jpeg:https://www.arise.ph/wp-content/uploads/2022/02/Poster_Cyber-Security-Feb.-16-Webinar_v2.jpg
END:VEVENT
BEGIN:VEVENT
DTSTART;TZID=Asia/Manila:20211206T150000
DTEND;TZID=Asia/Manila:20211206T170000
DTSTAMP:20260426T003302
CREATED:20260223T010644Z
LAST-MODIFIED:20260305T032030Z
UID:8513-1638802800-1638810000@www.arise.ph
SUMMARY:Top Leaders Forum 2021
DESCRIPTION:
URL:https://www.arise.ph/event/top-leaders-forum-2021/
LOCATION:via Zoom\, Philippines
ATTACH;FMTTYPE=image/jpeg:https://www.arise.ph/wp-content/uploads/2021/12/TLF-Poster.jpg
END:VEVENT
BEGIN:VEVENT
DTSTART;TZID=Asia/Manila:20211202T140000
DTEND;TZID=Asia/Manila:20211203T170000
DTSTAMP:20260426T003302
CREATED:20260223T010704Z
LAST-MODIFIED:20260223T010704Z
UID:8520-1638453600-1638550800@www.arise.ph
SUMMARY:BCMAP : 2021 Business Continuity Summit
DESCRIPTION:
URL:https://www.arise.ph/event/bcmap-2021-business-continuity-summit/
ATTACH;FMTTYPE=image/jpeg:https://www.arise.ph/wp-content/uploads/2021/11/BCMAP-2021-summit-poster-version-4.jpg
END:VEVENT
BEGIN:VEVENT
DTSTART;TZID=Asia/Manila:20211115T100000
DTEND;TZID=Asia/Manila:20211115T120000
DTSTAMP:20260426T003302
CREATED:20260223T010645Z
LAST-MODIFIED:20260305T051859Z
UID:8502-1636970400-1636977600@www.arise.ph
SUMMARY:Insurance for Resilience Webinar Series 2 : Current PIRA Initiatives for Disaster Risk Resilience
DESCRIPTION:
URL:https://www.arise.ph/event/insurance-for-resilience-webinar-series-2-current-pira-initiatives-for-disaster-risk-resilience/
LOCATION:via Zoom\, Philippines
ATTACH;FMTTYPE=image/jpeg:https://www.arise.ph/wp-content/uploads/2021/11/ARISE-PIRA-Webinar-Poster-2021-11-10-v1.jpg
END:VEVENT
BEGIN:VEVENT
DTSTART;TZID=Asia/Manila:20211112T100000
DTEND;TZID=Asia/Manila:20211112T120000
DTSTAMP:20260426T003302
CREATED:20260223T010645Z
LAST-MODIFIED:20260305T052037Z
UID:8494-1636711200-1636718400@www.arise.ph
SUMMARY:Insurance for Resilience Webinar Series 1 : Insurance 101
DESCRIPTION:
URL:https://www.arise.ph/event/insurance-for-resilience-webinar-series-1/
LOCATION:via Zoom\, Philippines
ATTACH;FMTTYPE=image/jpeg:https://www.arise.ph/wp-content/uploads/2021/11/ARISE-PIRA-Webinar-STD-1.jpg
END:VEVENT
END:VCALENDAR