BEGIN:VCALENDAR
VERSION:2.0
PRODID:-//ARISE Philippines - ECPv6.15.17.1//NONSGML v1.0//EN
CALSCALE:GREGORIAN
METHOD:PUBLISH
X-WR-CALNAME:ARISE Philippines
X-ORIGINAL-URL:https://www.arise.ph
X-WR-CALDESC:Events for ARISE Philippines
REFRESH-INTERVAL;VALUE=DURATION:PT1H
X-Robots-Tag:noindex
X-PUBLISHED-TTL:PT1H
BEGIN:VTIMEZONE
TZID:Asia/Manila
BEGIN:STANDARD
TZOFFSETFROM:+0800
TZOFFSETTO:+0800
TZNAME:PST
DTSTART:20240101T000000
END:STANDARD
END:VTIMEZONE
BEGIN:VTIMEZONE
TZID:Asia/Singapore
BEGIN:STANDARD
TZOFFSETFROM:+0800
TZOFFSETTO:+0800
TZNAME:+08
DTSTART:20250101T000000
END:STANDARD
END:VTIMEZONE
BEGIN:VEVENT
DTSTART;TZID=Asia/Manila:20251013T080000
DTEND;TZID=Asia/Manila:20251013T180000
DTSTAMP:20260425T194357
CREATED:20260324T030201Z
LAST-MODIFIED:20260408T054230Z
UID:10714-1760342400-1760378400@www.arise.ph
SUMMARY:International Day for Disaster Risk Reduction (IDDRR) 2025
DESCRIPTION:Fund Resilience\, Not Disasters!\n\nJoin us for the this October 13\, 2025 (Monday)\, 8:00 AM – 6:00 PM at the Music Hall\, SM Mall of Asia\, Pasay City.\nThis year’s theme highlights the importance of investing in resilience and strengthening collaboration to build safer communities. The event will feature exhibit booths showcasing innovative DRR funding initiatives\, a relay demonstrating dynamic youth-led resilience strategies\, competition presenting creative and functional first aid innovations\, and more!\nRegister here: https://forms.gle/BbWT2s9UZR2s8vkQ6\nLet’s come together to champion resilience and create a disaster-prepared Philippines.\n#IDDRR2025\n#FundResilienceNotDisasters\n#ARISEPhilippines
URL:https://www.arise.ph/event/international-day-for-disaster-risk-reduction-iddrr-2025/
LOCATION:Music Hall Level 1\, North Entertainment Mall\, SM Mall of Asia\, Pasay City\, 1300\, Philippines
ATTACH;FMTTYPE=image/jpeg:https://www.arise.ph/wp-content/uploads/2025/09/IDDRR-Poster.jpg
END:VEVENT
BEGIN:VEVENT
DTSTART;TZID=Asia/Manila:20251028T100000
DTEND;TZID=Asia/Manila:20251028T120000
DTSTAMP:20260425T194357
CREATED:20260223T010705Z
LAST-MODIFIED:20260302T071125Z
UID:9744-1761645600-1761652800@www.arise.ph
SUMMARY:Building Resilience Index Webinar – “A Risk Mitigation Tool in Funding Investments for Resilient Infrastructures”
DESCRIPTION:  In line with the 2025 International Day for Disaster Risk Reduction (IDDRR) theme\, “Fund Resilience\, Not Disasters\,” we recognize the urgent need to shift from reactive disaster spending to proactive investments in resilience-building systems. To advance this goal\, NEO\, the lead partner for the Resilient Infrastructure priority area of ARISE Philippines\, in partnership with International Finance Corporation and other key stakeholders\, will be hosting an online webinar entitled: “Building Resilience Index: A Risk Mitigation Tool in Funding Investments for Resilient Infrastructures.”   ? Date: October 28\, 2025 (Tuesday) ? Time: 10:00 AM – 12:00 PM (Philippine Time) ? Venue: Zoom Teleconference   The Building Resilience Index (BRI) is an innovative\, web-based hazard mapping and resilience assessment framework developed to help evaluate\, enhance\, and disclose the resilience of buildings against natural hazards.   We highly encourage all members and partners to participate in this timely discussion that underscores our shared commitment to resilient infrastructure and sustainable development.   ? Please confirm your attendance by registering through this link: https://forms.gle/PSYdte5MdiFXEaBu7 or you may scan the QR Code in the poster.   Thank you for your continued support and dedication to advancing resilience in the Philippines. \n\n\n\n\n\n\n\n\n\n 
URL:https://www.arise.ph/event/building-resilience-index-webinar-a-risk-mitigation-tool-in-funding-investments-for-resilient-infrastructures/
LOCATION:via Zoom\, Philippines
ATTACH;FMTTYPE=image/jpeg:https://www.arise.ph/wp-content/uploads/2025/10/BRI-Poster_Save-the-Date.jpg
END:VEVENT
BEGIN:VEVENT
DTSTART;TZID=Asia/Singapore:20260326T090000
DTEND;TZID=Asia/Singapore:20260326T120000
DTSTAMP:20260425T194357
CREATED:20260226T082758Z
LAST-MODIFIED:20260319T012508Z
UID:9993-1774515600-1774526400@www.arise.ph
SUMMARY:ARISE Philippines Annual General Meeting 2026
DESCRIPTION:The ARISE Philippines Annual General Meeting 2026 marks an important platform for reflecting on key milestones\, presenting organizational priorities\, and reinforcing collective action for disaster resilience. The meeting highlights the network’s continuing efforts to strengthen partnerships\, drive innovation\, and advance resilience across sectors. \nRegistration and inquiries: secretariat@arise.ph
URL:https://www.arise.ph/event/annual-general-meeting-2026/
LOCATION:Henry Sy Sr. Auditorium\, SM Prime Holdings Headquarters\, SM Prime Headquarters\, Pasay City\, Pasay City\, 1300\, Philippines
ATTACH;FMTTYPE=image/webp:https://www.arise.ph/wp-content/uploads/2026/02/Event-Annual-General-Meeting-2026.webp
END:VEVENT
END:VCALENDAR