BEGIN:VCALENDAR
VERSION:2.0
PRODID:-//ARISE Philippines - ECPv6.15.17.1//NONSGML v1.0//EN
CALSCALE:GREGORIAN
METHOD:PUBLISH
X-ORIGINAL-URL:https://www.arise.ph
X-WR-CALDESC:Events for ARISE Philippines
REFRESH-INTERVAL;VALUE=DURATION:PT1H
X-Robots-Tag:noindex
X-PUBLISHED-TTL:PT1H
BEGIN:VTIMEZONE
TZID:Asia/Manila
BEGIN:STANDARD
TZOFFSETFROM:+0800
TZOFFSETTO:+0800
TZNAME:PST
DTSTART:20230101T000000
END:STANDARD
END:VTIMEZONE
BEGIN:VEVENT
DTSTART;TZID=Asia/Manila:20240929T103000
DTEND;TZID=Asia/Manila:20240929T120000
DTSTAMP:20260425T181737
CREATED:20260223T010716Z
LAST-MODIFIED:20260323T080535Z
UID:9743-1727605800-1727611200@www.arise.ph
SUMMARY:[WINDRR Webinar]: Women Leading Resilience Series - Women on the Frontlines: Leading Disaster Risk Reduction within the Government
DESCRIPTION:WINDRR Philippines is kicking off Year 2 of the Women Leading Resilience Webinar Series! \nJoin us for the first webinar on September 29\, 2025\, from 10:30 AM to 12:00 NN\, featuring the inspiring disaster risk reduction (DRR) journey of Colonel Ariunaa Chadraabal from Mongolia\, a distinguished finalist of the 2024 WINDRR Excellence Awards. \nTo register for the webinar\, please follow this link:  \nhttps://forms.gle/oEKzdJEBrSbqJd666 \nZoom credentials will be sent directly to your email upon completing the registration form. \nWe encourage you to share this invitation with your colleagues and networks. Let’s come together to learn\, be inspired\, and celebrate women leaders driving resilience across the region. \nThank you\, and we look forward to your participation. We are excited to hear Colonel Ariunaa’s story and hope to see you on September 29th!
URL:https://www.arise.ph/event/windrr-webinar-women-leading-resilience-series-women-on-the-frontlines-leading-disaster-risk-reduction-within-the-government/
LOCATION:via Zoom\, Philippines
ATTACH;FMTTYPE=image/jpeg:https://www.arise.ph/wp-content/uploads/2025/09/WLRW-1-2025.jpg
END:VEVENT
END:VCALENDAR